BEGIN:VCALENDAR
VERSION:2.0
PRODID:-//Scarborough Yacht Club - ECPv6.15.20//NONSGML v1.0//EN
CALSCALE:GREGORIAN
METHOD:PUBLISH
X-WR-CALNAME:Scarborough Yacht Club
X-ORIGINAL-URL:https://syc.org.uk
X-WR-CALDESC:Events for Scarborough Yacht Club
REFRESH-INTERVAL;VALUE=DURATION:PT1H
X-Robots-Tag:noindex
X-PUBLISHED-TTL:PT1H
BEGIN:VTIMEZONE
TZID:Europe/London
BEGIN:DAYLIGHT
TZOFFSETFROM:+0000
TZOFFSETTO:+0100
TZNAME:BST
DTSTART:20230326T010000
END:DAYLIGHT
BEGIN:STANDARD
TZOFFSETFROM:+0100
TZOFFSETTO:+0000
TZNAME:GMT
DTSTART:20231029T010000
END:STANDARD
BEGIN:DAYLIGHT
TZOFFSETFROM:+0000
TZOFFSETTO:+0100
TZNAME:BST
DTSTART:20240331T010000
END:DAYLIGHT
BEGIN:STANDARD
TZOFFSETFROM:+0100
TZOFFSETTO:+0000
TZNAME:GMT
DTSTART:20241027T010000
END:STANDARD
BEGIN:DAYLIGHT
TZOFFSETFROM:+0000
TZOFFSETTO:+0100
TZNAME:BST
DTSTART:20250330T010000
END:DAYLIGHT
BEGIN:STANDARD
TZOFFSETFROM:+0100
TZOFFSETTO:+0000
TZNAME:GMT
DTSTART:20251026T010000
END:STANDARD
END:VTIMEZONE
BEGIN:VEVENT
DTSTART;TZID=Europe/London:20240721T153000
DTEND;TZID=Europe/London:20240721T183000
DTSTAMP:20260419T193514
CREATED:20240515T192800Z
LAST-MODIFIED:20240515T192800Z
UID:9842-1721575800-1721586600@syc.org.uk
SUMMARY:EMU Series Race 2
DESCRIPTION:Race Officer – Tomtit  HW1715
URL:https://syc.org.uk/event/emu-series-race-2/
END:VEVENT
BEGIN:VEVENT
DTSTART;TZID=Europe/London:20240720T150000
DTEND;TZID=Europe/London:20240720T183000
DTSTAMP:20260419T193514
CREATED:20240515T192612Z
LAST-MODIFIED:20240515T192612Z
UID:9839-1721487600-1721500200@syc.org.uk
SUMMARY:EMU Series Race 1
DESCRIPTION:Race officer – Tike  HW1631
URL:https://syc.org.uk/event/emu-series-race-1/
END:VEVENT
BEGIN:VEVENT
DTSTART;TZID=Europe/London:20240712T190000
DTEND;TZID=Europe/London:20240715T180000
DTSTAMP:20260419T193514
CREATED:20240515T192449Z
LAST-MODIFIED:20240515T192449Z
UID:9837-1720810800-1721066400@syc.org.uk
SUMMARY:North Sea Race
DESCRIPTION:Race officer – HH HW2138
URL:https://syc.org.uk/event/north-sea-race/
END:VEVENT
BEGIN:VEVENT
DTSTART;TZID=Europe/London:20240710T183000
DTEND;TZID=Europe/London:20240710T210000
DTSTAMP:20260419T193514
CREATED:20240515T192211Z
LAST-MODIFIED:20240515T192211Z
UID:9834-1720636200-1720645200@syc.org.uk
SUMMARY:Midweek Series Race 6
DESCRIPTION:Race officer – Win & Susan  HW2020
URL:https://syc.org.uk/event/midweek-series-race-6/
END:VEVENT
BEGIN:VEVENT
DTSTART;TZID=Europe/London:20240707T160000
DTEND;TZID=Europe/London:20240707T190000
DTSTAMP:20260419T193514
CREATED:20240515T192033Z
LAST-MODIFIED:20240515T192033Z
UID:9831-1720368000-1720378800@syc.org.uk
SUMMARY:Summer Series Race 1
DESCRIPTION:Race officer – Sting  HW1816
URL:https://syc.org.uk/event/summer-series-race-1/
END:VEVENT
BEGIN:VEVENT
DTSTART;TZID=Europe/London:20240706T160000
DTEND;TZID=Europe/London:20240706T190000
DTSTAMP:20260419T193514
CREATED:20240515T191837Z
LAST-MODIFIED:20240515T191853Z
UID:9827-1720281600-1720292400@syc.org.uk
SUMMARY:Commodores Series Race 7 - Brian Lodge
DESCRIPTION:Race officer – Revenge  HW1731
URL:https://syc.org.uk/event/commodores-series-race-7-brian-lodge/
END:VEVENT
BEGIN:VEVENT
DTSTART;TZID=Europe/London:20240630T100000
DTEND;TZID=Europe/London:20240630T133000
DTSTAMP:20260419T193514
CREATED:20240515T190638Z
LAST-MODIFIED:20240515T191915Z
UID:9824-1719741600-1719754200@syc.org.uk
SUMMARY:Spring Series Race 6
DESCRIPTION:Race officer – TBA  HW1135
URL:https://syc.org.uk/event/spring-series-race-6/
END:VEVENT
BEGIN:VEVENT
DTSTART;TZID=Europe/London:20240629T100000
DTEND;TZID=Europe/London:20240629T123000
DTSTAMP:20260419T193514
CREATED:20240515T190342Z
LAST-MODIFIED:20240611T144225Z
UID:9822-1719655200-1719664200@syc.org.uk
SUMMARY:Commodores Series Race 6 - Cadet Race
DESCRIPTION:Race officer – Rascal  HW1031 \nDownloadRace instructions HERE
URL:https://syc.org.uk/event/commodores-series-race-6-cadet-race/
END:VEVENT
BEGIN:VEVENT
DTSTART;TZID=Europe/London:20240626T190000
DTEND;TZID=Europe/London:20240626T210000
DTSTAMP:20260419T193514
CREATED:20240515T190143Z
LAST-MODIFIED:20240515T190143Z
UID:9820-1719428400-1719435600@syc.org.uk
SUMMARY:Midweek Series Race 5
DESCRIPTION:Race officer – Win & Susan  HW 2036
URL:https://syc.org.uk/event/midweek-series-race-5/
END:VEVENT
BEGIN:VEVENT
DTSTART;TZID=Europe/London:20240623T090000
DTEND;TZID=Europe/London:20240623T220000
DTSTAMP:20260419T193514
CREATED:20240515T185953Z
LAST-MODIFIED:20240515T185953Z
UID:9817-1719133200-1719180000@syc.org.uk
SUMMARY:Sheppard Cup - Return from Hartlepool
DESCRIPTION:Take your own times  HW Scarborough 1811
URL:https://syc.org.uk/event/sheppard-cup-return-from-hartlepool/
END:VEVENT
BEGIN:VEVENT
DTSTART;TZID=Europe/London:20240621T190000
DTEND;TZID=Europe/London:20240622T190000
DTSTAMP:20260419T193514
CREATED:20240515T185803Z
LAST-MODIFIED:20240611T143642Z
UID:9815-1718996400-1719082800@syc.org.uk
SUMMARY:Sidney Carter - To Hartlepool
DESCRIPTION:Race officer – HH  HW1643 \nDownload Race Instructions HERE
URL:https://syc.org.uk/event/sidner-carter-to-hartlepool/
END:VEVENT
BEGIN:VEVENT
DTSTART;TZID=Europe/London:20240616T110000
DTEND;TZID=Europe/London:20240616T143000
DTSTAMP:20260419T193514
CREATED:20240515T185612Z
LAST-MODIFIED:20240515T185612Z
UID:9813-1718535600-1718548200@syc.org.uk
SUMMARY:Spring Series Race 5
DESCRIPTION:Race officer – Northern Light  HW1239
URL:https://syc.org.uk/event/spring-series-race-5/
END:VEVENT
BEGIN:VEVENT
DTSTART;TZID=Europe/London:20240615T100000
DTEND;TZID=Europe/London:20240615T133000
DTSTAMP:20260419T193514
CREATED:20240515T185356Z
LAST-MODIFIED:20240611T142131Z
UID:9810-1718445600-1718458200@syc.org.uk
SUMMARY:Commodores Series Race 5 - Lady Helm
DESCRIPTION:Race officer – My Gal  HW 1136 \nRace instructions HERE
URL:https://syc.org.uk/event/commodores-series-race-5-lady-helm/
END:VEVENT
BEGIN:VEVENT
DTSTART;TZID=Europe/London:20240612T193000
DTEND;TZID=Europe/London:20240612T213000
DTSTAMP:20260419T193514
CREATED:20240514T201914Z
LAST-MODIFIED:20240609T165004Z
UID:9807-1718220600-1718227800@syc.org.uk
SUMMARY:Midweek Series Race 4
DESCRIPTION:Race Officer – Win and Susan HW 2040
URL:https://syc.org.uk/event/midweek-series-race-4/
END:VEVENT
BEGIN:VEVENT
DTSTART;TZID=Europe/London:20240609T090000
DTEND;TZID=Europe/London:20240609T180000
DTSTAMP:20260419T193514
CREATED:20240514T201726Z
LAST-MODIFIED:20240514T201726Z
UID:9804-1717923600-1717956000@syc.org.uk
SUMMARY:Charity Trophy
DESCRIPTION:Start at Whitby Bell Buoy\, take your own start and finish time. HW Scarborough 0641 – 1915
URL:https://syc.org.uk/event/charity-trophy/
END:VEVENT
BEGIN:VEVENT
DTSTART;TZID=Europe/London:20240608T090000
DTEND;TZID=Europe/London:20240608T180000
DTSTAMP:20260419T193514
CREATED:20240514T201450Z
LAST-MODIFIED:20240523T100918Z
UID:9801-1717837200-1717869600@syc.org.uk
SUMMARY:Vernon Dawson - Coastal Series Race 3
DESCRIPTION:2024-Vernon-Dawson-SI \nRace Officer – VC  HW 0559
URL:https://syc.org.uk/event/vernon-dawson-coastal-series-race-3/
END:VEVENT
BEGIN:VEVENT
DTSTART;TZID=Europe/London:20240602T113000
DTEND;TZID=Europe/London:20240602T150000
DTSTAMP:20260419T193514
CREATED:20240514T201250Z
LAST-MODIFIED:20240514T201250Z
UID:9798-1717327800-1717340400@syc.org.uk
SUMMARY:Spring Series Race 4
DESCRIPTION:Race Officer- Kassy HW 1312
URL:https://syc.org.uk/event/spring-series-race-4/
END:VEVENT
BEGIN:VEVENT
DTSTART;TZID=Europe/London:20240601T103000
DTEND;TZID=Europe/London:20240601T133000
DTSTAMP:20260419T193514
CREATED:20240514T201107Z
LAST-MODIFIED:20240514T201107Z
UID:9795-1717237800-1717248600@syc.org.uk
SUMMARY:Commodores Series Race 4 - Bruce Temple Trophy
DESCRIPTION:Race Officer – Just One More HW1202
URL:https://syc.org.uk/event/commodores-series-race-4-bruce-temple-trophy/
END:VEVENT
END:VCALENDAR