BEGIN:VCALENDAR
VERSION:2.0
PRODID:-//Scarborough Yacht Club - ECPv6.15.20//NONSGML v1.0//EN
CALSCALE:GREGORIAN
METHOD:PUBLISH
X-WR-CALNAME:Scarborough Yacht Club
X-ORIGINAL-URL:https://syc.org.uk
X-WR-CALDESC:Events for Scarborough Yacht Club
REFRESH-INTERVAL;VALUE=DURATION:PT1H
X-Robots-Tag:noindex
X-PUBLISHED-TTL:PT1H
BEGIN:VTIMEZONE
TZID:Europe/London
BEGIN:DAYLIGHT
TZOFFSETFROM:+0000
TZOFFSETTO:+0100
TZNAME:BST
DTSTART:20230326T010000
END:DAYLIGHT
BEGIN:STANDARD
TZOFFSETFROM:+0100
TZOFFSETTO:+0000
TZNAME:GMT
DTSTART:20231029T010000
END:STANDARD
BEGIN:DAYLIGHT
TZOFFSETFROM:+0000
TZOFFSETTO:+0100
TZNAME:BST
DTSTART:20240331T010000
END:DAYLIGHT
BEGIN:STANDARD
TZOFFSETFROM:+0100
TZOFFSETTO:+0000
TZNAME:GMT
DTSTART:20241027T010000
END:STANDARD
BEGIN:DAYLIGHT
TZOFFSETFROM:+0000
TZOFFSETTO:+0100
TZNAME:BST
DTSTART:20250330T010000
END:DAYLIGHT
BEGIN:STANDARD
TZOFFSETFROM:+0100
TZOFFSETTO:+0000
TZNAME:GMT
DTSTART:20251026T010000
END:STANDARD
END:VTIMEZONE
BEGIN:VEVENT
DTSTART;TZID=Europe/London:20240615T100000
DTEND;TZID=Europe/London:20240615T133000
DTSTAMP:20260419T204505
CREATED:20240515T185356Z
LAST-MODIFIED:20240611T142131Z
UID:9810-1718445600-1718458200@syc.org.uk
SUMMARY:Commodores Series Race 5 - Lady Helm
DESCRIPTION:Race officer – My Gal  HW 1136 \nRace instructions HERE
URL:https://syc.org.uk/event/commodores-series-race-5-lady-helm/
END:VEVENT
BEGIN:VEVENT
DTSTART;TZID=Europe/London:20240612T193000
DTEND;TZID=Europe/London:20240612T213000
DTSTAMP:20260419T204505
CREATED:20240514T201914Z
LAST-MODIFIED:20240609T165004Z
UID:9807-1718220600-1718227800@syc.org.uk
SUMMARY:Midweek Series Race 4
DESCRIPTION:Race Officer – Win and Susan HW 2040
URL:https://syc.org.uk/event/midweek-series-race-4/
END:VEVENT
BEGIN:VEVENT
DTSTART;TZID=Europe/London:20240609T090000
DTEND;TZID=Europe/London:20240609T180000
DTSTAMP:20260419T204505
CREATED:20240514T201726Z
LAST-MODIFIED:20240514T201726Z
UID:9804-1717923600-1717956000@syc.org.uk
SUMMARY:Charity Trophy
DESCRIPTION:Start at Whitby Bell Buoy\, take your own start and finish time. HW Scarborough 0641 – 1915
URL:https://syc.org.uk/event/charity-trophy/
END:VEVENT
BEGIN:VEVENT
DTSTART;TZID=Europe/London:20240608T090000
DTEND;TZID=Europe/London:20240608T180000
DTSTAMP:20260419T204505
CREATED:20240514T201450Z
LAST-MODIFIED:20240523T100918Z
UID:9801-1717837200-1717869600@syc.org.uk
SUMMARY:Vernon Dawson - Coastal Series Race 3
DESCRIPTION:2024-Vernon-Dawson-SI \nRace Officer – VC  HW 0559
URL:https://syc.org.uk/event/vernon-dawson-coastal-series-race-3/
END:VEVENT
BEGIN:VEVENT
DTSTART;TZID=Europe/London:20240602T113000
DTEND;TZID=Europe/London:20240602T150000
DTSTAMP:20260419T204505
CREATED:20240514T201250Z
LAST-MODIFIED:20240514T201250Z
UID:9798-1717327800-1717340400@syc.org.uk
SUMMARY:Spring Series Race 4
DESCRIPTION:Race Officer- Kassy HW 1312
URL:https://syc.org.uk/event/spring-series-race-4/
END:VEVENT
BEGIN:VEVENT
DTSTART;TZID=Europe/London:20240601T103000
DTEND;TZID=Europe/London:20240601T133000
DTSTAMP:20260419T204505
CREATED:20240514T201107Z
LAST-MODIFIED:20240514T201107Z
UID:9795-1717237800-1717248600@syc.org.uk
SUMMARY:Commodores Series Race 4 - Bruce Temple Trophy
DESCRIPTION:Race Officer – Just One More HW1202
URL:https://syc.org.uk/event/commodores-series-race-4-bruce-temple-trophy/
END:VEVENT
END:VCALENDAR