BEGIN:VCALENDAR
VERSION:2.0
PRODID:-//Scarborough Yacht Club - ECPv6.15.20//NONSGML v1.0//EN
CALSCALE:GREGORIAN
METHOD:PUBLISH
X-ORIGINAL-URL:https://syc.org.uk
X-WR-CALDESC:Events for Scarborough Yacht Club
REFRESH-INTERVAL;VALUE=DURATION:PT1H
X-Robots-Tag:noindex
X-PUBLISHED-TTL:PT1H
BEGIN:VTIMEZONE
TZID:Europe/London
BEGIN:DAYLIGHT
TZOFFSETFROM:+0000
TZOFFSETTO:+0100
TZNAME:BST
DTSTART:20250330T010000
END:DAYLIGHT
BEGIN:STANDARD
TZOFFSETFROM:+0100
TZOFFSETTO:+0000
TZNAME:GMT
DTSTART:20251026T010000
END:STANDARD
BEGIN:DAYLIGHT
TZOFFSETFROM:+0000
TZOFFSETTO:+0100
TZNAME:BST
DTSTART:20260329T010000
END:DAYLIGHT
BEGIN:STANDARD
TZOFFSETFROM:+0100
TZOFFSETTO:+0000
TZNAME:GMT
DTSTART:20261025T010000
END:STANDARD
BEGIN:DAYLIGHT
TZOFFSETFROM:+0000
TZOFFSETTO:+0100
TZNAME:BST
DTSTART:20270328T010000
END:DAYLIGHT
BEGIN:STANDARD
TZOFFSETFROM:+0100
TZOFFSETTO:+0000
TZNAME:GMT
DTSTART:20271031T010000
END:STANDARD
END:VTIMEZONE
BEGIN:VEVENT
DTSTART;TZID=Europe/London:20260201T140000
DTEND;TZID=Europe/London:20260201T170000
DTSTAMP:20260420T090320
CREATED:20251208T164219Z
LAST-MODIFIED:20251218T171147Z
UID:10819-1769954400-1769965200@syc.org.uk
SUMMARY:Winter Series Race 2
DESCRIPTION:Race officer – Maggie. HW 15.50
URL:https://syc.org.uk/event/10819/
END:VEVENT
BEGIN:VEVENT
DTSTART;TZID=Europe/London:20260215T133000
DTEND;TZID=Europe/London:20260215T170000
DTSTAMP:20260420T090320
CREATED:20251208T164453Z
LAST-MODIFIED:20251208T164453Z
UID:10822-1771162200-1771174800@syc.org.uk
SUMMARY:Winter Series Race 3
DESCRIPTION:Race officer -My Gal.  HW 15.13
URL:https://syc.org.uk/event/winter-series-race-3-2/
END:VEVENT
END:VCALENDAR